BEGIN:VCALENDAR
VERSION:2.0
PRODID:-//wp-events-plugin.com//7.2.3.1//EN
TZID:Europe/Amsterdam
X-WR-TIMEZONE:Europe/Amsterdam
BEGIN:VEVENT
UID:1651@ayurvedainstituut.com
DTSTART;TZID=Europe/Amsterdam:20260516T100000
DTEND;TZID=Europe/Amsterdam:20260516T130000
DTSTAMP:20251210T103953Z
URL:https://www.ayurvedainstituut.com/agenda/kookworkshop-koken-voor-jouw-
 dosha-lente-editie/
SUMMARY:Kookworkshop: Koken voor jouw dosha
DESCRIPTION:Koken voor jouw dosha \nKoken afgestemd op jouw unieke constit
 utie.In deze workshop ontdek je welke voeding jouw dosha (Vata\, Pitta of 
 Kapha) in balans brengt tijdens de lente. We bereiden samen een maaltijd d
 ie past bij jouw behoeften: licht\, fris en afgestemd op het seizoen.\nDuu
 r: 3 uurLocatie: Het Ayurveda Instituut – WinschotenPrijs: € 65\,- p.p
 . (incl. btw\, proeverij\, kruidenthee &amp\; recepten)Groep: max. 6 deeln
 emers\nAanmelden: via inschrijfformulier
ATTACH;FMTTYPE=image/jpeg:https://www.ayurvedainstituut.com/wp-content/upl
 oads/2025/11/frog-927769_1280.jpg
CATEGORIES:Workshop
LOCATION:Het Ayurveda Instituut Winschoten\, Kloostergang 83\, Winschoten\,
  Groningen\, 9675 RH\, Groningen\, Nederland
X-APPLE-STRUCTURED-LOCATION;VALUE=URI;X-ADDRESS=Kloostergang 83\, Winschote
 n\, Groningen\, 9675 RH\, Groningen\, Nederland;X-APPLE-RADIUS=100;X-TITLE
 =Het Ayurveda Instituut Winschoten:geo:0,0
END:VEVENT
BEGIN:VTIMEZONE
TZID:Europe/Amsterdam
X-LIC-LOCATION:Europe/Amsterdam
BEGIN:DAYLIGHT
DTSTART:20260329T030000
TZOFFSETFROM:+0100
TZOFFSETTO:+0200
TZNAME:CEST
END:DAYLIGHT
END:VTIMEZONE
END:VCALENDAR