BEGIN:VCALENDAR
VERSION:2.0
PRODID:-//wp-events-plugin.com//7.2.3.1//EN
TZID:Europe/Amsterdam
X-WR-TIMEZONE:Europe/Amsterdam
BEGIN:VEVENT
UID:1372@ayurvedainstituut.com
DTSTART;TZID=Europe/Amsterdam:20190803T100000
DTEND;TZID=Europe/Amsterdam:20190804T170000
DTSTAMP:20190604T143541Z
URL:https://www.ayurvedainstituut.com/en/agenda/introductieweekend-ayurved
 a-massage/
SUMMARY:Introductieweekend Ayurveda & Massage
DESCRIPTION:Voor aanmelding of informatie kun je ons een mailtje sturen.\n\
 nVolledig verzorgd weekend met Ayurveda en Massage. Het weekend is een voo
 rproefje op de opleiding Ayurveda Massagetherapeut die in 2020 van start g
 aat.\n\nEr is plek voor maximaal 6 personen.
ATTACH;FMTTYPE=image/jpeg:https://www.ayurvedainstituut.com/wp-content/upl
 oads/Ayurveda-sfeer.jpg
LOCATION:Het Ayurveda Instituut\, Hippocrateslaan 40\, Groningen\, 9728 HJ\
 , Netherlands
GEO:53.197243;6.553016
X-APPLE-STRUCTURED-LOCATION;VALUE=URI;X-ADDRESS=Hippocrateslaan 40\, Gronin
 gen\, 9728 HJ\, Netherlands;X-APPLE-RADIUS=100;X-TITLE=Het Ayurveda Instit
 uut:geo:53.197243,6.553016
END:VEVENT
BEGIN:VTIMEZONE
TZID:Europe/Amsterdam
X-LIC-LOCATION:Europe/Amsterdam
BEGIN:DAYLIGHT
DTSTART:20190331T030000
TZOFFSETFROM:+0100
TZOFFSETTO:+0200
TZNAME:CEST
END:DAYLIGHT
END:VTIMEZONE
END:VCALENDAR