BEGIN:VCALENDAR
VERSION:2.0
PRODID:-//wp-events-plugin.com//7.2.3.1//EN
TZID:Europe/Amsterdam
X-WR-TIMEZONE:Europe/Amsterdam
BEGIN:VEVENT
UID:1652@ayurvedainstituut.com
DTSTART;TZID=Europe/Amsterdam:20260613T100000
DTEND;TZID=Europe/Amsterdam:20260613T130000
DTSTAMP:20251210T104101Z
URL:https://www.ayurvedainstituut.com/en/agenda/kookworkshop-ayurveda-voor
 -drukbezette-mensen-zomervoorbereiding/
SUMMARY:Kookworkshop: Ayurveda voor drukbezette mensen
DESCRIPTION:Ayurveda voor drukbezette mensen \nKleine gewoonten voor meer 
 rust\, helderheid en energie — precies wat je nodig hebt vóór de zomer
 .In deze workshop leer je eenvoudige Ayurvedische routines die je helpen o
 m de drukke maanden goed door te komen en je lichaam alvast in balans te b
 rengen voor het warme Pitta-seizoen.\nDuur: 3 uurLocatie: Het Ayurveda Ins
 tituut – WinschotenPrijs: € 65\,- p.p. (incl. btw\, proeverij\, kruide
 nthee &amp\; recepten)Groep: max. 6 deelnemers\nAanmelden: via inschrijffo
 rmulier
ATTACH;FMTTYPE=image/jpeg:https://www.ayurvedainstituut.com/wp-content/upl
 oads/2025/11/ganesha-3339587_1920.jpg
CATEGORIES:Workshop
LOCATION:Het Ayurveda Instituut Winschoten\, Kloostergang 83\, Winschoten\,
  Groningen\, 9675 RH\, Groningen\, Netherlands
X-APPLE-STRUCTURED-LOCATION;VALUE=URI;X-ADDRESS=Kloostergang 83\, Winschote
 n\, Groningen\, 9675 RH\, Groningen\, Netherlands;X-APPLE-RADIUS=100;X-TIT
 LE=Het Ayurveda Instituut Winschoten:geo:0,0
END:VEVENT
BEGIN:VTIMEZONE
TZID:Europe/Amsterdam
X-LIC-LOCATION:Europe/Amsterdam
BEGIN:DAYLIGHT
DTSTART:20260329T030000
TZOFFSETFROM:+0100
TZOFFSETTO:+0200
TZNAME:CEST
END:DAYLIGHT
END:VTIMEZONE
END:VCALENDAR