BEGIN:VCALENDAR
VERSION:2.0
PRODID:-//wp-events-plugin.com//7.2.3.1//EN
TZID:Europe/Amsterdam
X-WR-TIMEZONE:Europe/Amsterdam
BEGIN:VEVENT
UID:1654@ayurvedainstituut.com
DTSTART;TZID=Europe/Amsterdam:20261003T100000
DTEND;TZID=Europe/Amsterdam:20261003T130000
DTSTAMP:20251210T104417Z
URL:https://www.ayurvedainstituut.com/en/agenda/kookworkshop-detox-light-n
 ajaar/
SUMMARY:Kookworkshop: Detox Light
DESCRIPTION:Detox Light \nVerlicht het lichaam tijdens de overgang naar de
  herfst.In deze najaarsworkshop leer je hoe je het lichaam zacht kunt ontl
 asten met warme\, lichte voeding en Vata-kalmerende kruiden. We bereiden e
 en eenvoudige\, verwarmende maaltijd die helpt om de zomerhitte los te lat
 en en het lichaam voor te bereiden op het koelere seizoen.\nDuur: 3 uurLoc
 atie: Het Ayurveda Instituut – WinschotenPrijs: € 65\,- p.p. (incl. bt
 w\, proeverij\, kruidenthee &amp\; recepten)Groep: max. 6 deelnemers\nAanm
 elden: via inschrijfformulier
ATTACH;FMTTYPE=image/jpeg:https://www.ayurvedainstituut.com/wp-content/upl
 oads/2025/11/woman-3186730_1280.jpg
CATEGORIES:Workshop
LOCATION:Het Ayurveda Instituut Winschoten\, Kloostergang 83\, Winschoten\,
  Groningen\, 9675 RH\, Groningen\, Netherlands
X-APPLE-STRUCTURED-LOCATION;VALUE=URI;X-ADDRESS=Kloostergang 83\, Winschote
 n\, Groningen\, 9675 RH\, Groningen\, Netherlands;X-APPLE-RADIUS=100;X-TIT
 LE=Het Ayurveda Instituut Winschoten:geo:0,0
END:VEVENT
BEGIN:VTIMEZONE
TZID:Europe/Amsterdam
X-LIC-LOCATION:Europe/Amsterdam
BEGIN:DAYLIGHT
DTSTART:20260329T030000
TZOFFSETFROM:+0100
TZOFFSETTO:+0200
TZNAME:CEST
END:DAYLIGHT
END:VTIMEZONE
END:VCALENDAR