BEGIN:VCALENDAR
VERSION:2.0
PRODID:-//wp-events-plugin.com//7.2.3.1//EN
TZID:Europe/Amsterdam
X-WR-TIMEZONE:Europe/Amsterdam
BEGIN:VEVENT
UID:1479@ayurvedainstituut.com
DTSTART;TZID=Europe/Amsterdam:20220424T103000
DTEND;TZID=Europe/Amsterdam:20220424T150000
DTSTAMP:20220211T104006Z
URL:https://www.ayurvedainstituut.com/en/agenda/open-dag-5/
SUMMARY:Open Dag
DESCRIPTION:Wil je met ons komen kennismaken\, wil je informatie over onze 
 activiteiten of heb je vragen hoe we je het beste kunnen helpen? Kom dan l
 angs!\n\nJe kunt je hier aanmelden.\n\nLet erop dat we ivm de huidige Coro
 na - maatregelen slechts een max. aantal mensen per keer kunnen toelaten\,
  met aanmelding vooraf.
ATTACH;FMTTYPE=image/jpeg:https://www.ayurvedainstituut.com/wp-content/upl
 oads/2020/08/C79110EB-9CB7-42E6-87C0-FD9149A11362_1_105_c.jpeg
CATEGORIES:Open dag
LOCATION:Het Ayurveda Instituut\, Protonstraat 13-C\, Groningen\, Groningen
 \, 9743 AL\, Groningen\, Netherlands
GEO:53.216331;6.534240
X-APPLE-STRUCTURED-LOCATION;VALUE=URI;X-ADDRESS=Protonstraat 13-C\, Groning
 en\, Groningen\, 9743 AL\, Groningen\, Netherlands;X-APPLE-RADIUS=100;X-TI
 TLE=Het Ayurveda Instituut:geo:53.216331,6.534240
END:VEVENT
BEGIN:VTIMEZONE
TZID:Europe/Amsterdam
X-LIC-LOCATION:Europe/Amsterdam
BEGIN:DAYLIGHT
DTSTART:20220327T030000
TZOFFSETFROM:+0100
TZOFFSETTO:+0200
TZNAME:CEST
END:DAYLIGHT
END:VTIMEZONE
END:VCALENDAR