BEGIN:VCALENDAR
VERSION:2.0
PRODID:-//wp-events-plugin.com//7.2.3.1//EN
TZID:Europe/Amsterdam
X-WR-TIMEZONE:Europe/Amsterdam
BEGIN:VEVENT
UID:1486@ayurvedainstituut.com
DTSTART;TZID=Europe/Amsterdam:20221126T100000
DTEND;TZID=Europe/Amsterdam:20221126T160000
DTSTAMP:20221122T102840Z
URL:https://www.ayurvedainstituut.com/en/agenda/workshop-ayurvedische-voet
 reflexologie-2/
SUMMARY:Workshop Ayurvedische voetreflexologie
DESCRIPTION:Wanneer je een beroep in de gezondheidszorg uitoefent is het in
 teressant om eens vanuit een andere hoek te bekijken wat er allemaal mogel
 ijk is om het lichaam aan te sporen om zelf weer te herstellen/balanceren.
  Voetreflexologie geeft in combinatie met Ayurvedische kennis meer diepgan
 g en uiteindelijk beter resultaat. Deze workshop is voornamelijk bedoeld v
 oor therapeuten die al wat ervaring hebben met massage en/of voetreflexolo
 gie.
ATTACH;FMTTYPE=image/jpeg:https://www.ayurvedainstituut.com/wp-content/upl
 oads/2021/07/voetreflexologie-av.png
CATEGORIES:Workshop
LOCATION:Het Ayurveda Instituut\, Protonstraat 13-C\, Groningen\, Groningen
 \, 9743 AL\, Groningen\, Netherlands
GEO:53.216331;6.534240
X-APPLE-STRUCTURED-LOCATION;VALUE=URI;X-ADDRESS=Protonstraat 13-C\, Groning
 en\, Groningen\, 9743 AL\, Groningen\, Netherlands;X-APPLE-RADIUS=100;X-TI
 TLE=Het Ayurveda Instituut:geo:53.216331,6.534240
END:VEVENT
BEGIN:VTIMEZONE
TZID:Europe/Amsterdam
X-LIC-LOCATION:Europe/Amsterdam
BEGIN:STANDARD
DTSTART:20221030T020000
TZOFFSETFROM:+0200
TZOFFSETTO:+0100
TZNAME:CET
END:STANDARD
END:VTIMEZONE
END:VCALENDAR